BEGIN:VCALENDAR
VERSION:2.0
PRODID:-//Netherby Hall - ECPv6.15.15//NONSGML v1.0//EN
CALSCALE:GREGORIAN
METHOD:PUBLISH
X-ORIGINAL-URL:https://netherbyhall.co.uk
X-WR-CALDESC:Events for Netherby Hall
REFRESH-INTERVAL;VALUE=DURATION:PT1H
X-Robots-Tag:noindex
X-PUBLISHED-TTL:PT1H
BEGIN:VTIMEZONE
TZID:Europe/London
BEGIN:DAYLIGHT
TZOFFSETFROM:+0000
TZOFFSETTO:+0100
TZNAME:BST
DTSTART:20210328T010000
END:DAYLIGHT
BEGIN:STANDARD
TZOFFSETFROM:+0100
TZOFFSETTO:+0000
TZNAME:GMT
DTSTART:20211031T010000
END:STANDARD
BEGIN:DAYLIGHT
TZOFFSETFROM:+0000
TZOFFSETTO:+0100
TZNAME:BST
DTSTART:20220327T010000
END:DAYLIGHT
BEGIN:STANDARD
TZOFFSETFROM:+0100
TZOFFSETTO:+0000
TZNAME:GMT
DTSTART:20221030T010000
END:STANDARD
BEGIN:DAYLIGHT
TZOFFSETFROM:+0000
TZOFFSETTO:+0100
TZNAME:BST
DTSTART:20230326T010000
END:DAYLIGHT
BEGIN:STANDARD
TZOFFSETFROM:+0100
TZOFFSETTO:+0000
TZNAME:GMT
DTSTART:20231029T010000
END:STANDARD
END:VTIMEZONE
BEGIN:VEVENT
DTSTART;TZID=Europe/London:20221112T100000
DTEND;TZID=Europe/London:20221113T150000
DTSTAMP:20260424T084031
CREATED:20221010T092620Z
LAST-MODIFIED:20221010T092620Z
UID:8977-1668247200-1668351600@netherbyhall.co.uk
SUMMARY:Christmas Craft Fair 2022
DESCRIPTION:The ever-popular Netherby Hall Christmas Craft Fair is back for Christmas 2022!\n\n						Free Entry | Free Parking\n					 \n\n						Sunday 13th November\, 10am – 3pm\n						Saturday 12th November\, 10am – 3pm\n					 \nThe warmest of welcomes awaits you\, as we open the doors to the beautiful decorated Netherby Hall on Saturday 12th and Sunday 13th November 2022. \nNetherby Hall will once again be transformed into a wonderfully festive hub of local and regional crafters\, artists and more\, selling unique and handcrafted gifts that you won’t find on the high street. \nWe can’t wait to welcome you back to our most festive event of the year!
URL:https://netherbyhall.co.uk/event/christmas-craft-fair-2022/
LOCATION:Netherby Hall\, Longtown\, Carlisle\, CA65PR\, United Kingdom
CATEGORIES:Craft Fairs
ATTACH;FMTTYPE=image/webp:https://netherbyhall.co.uk/wp-content/uploads/2022/10/Christmas-Craft-Fair-2022.webp
ORGANIZER;CN="Netherby Hall":MAILTO:events@netherbyhall.co.uk
END:VEVENT
END:VCALENDAR