BEGIN:VCALENDAR
VERSION:2.0
PRODID:-//Netherby Hall - ECPv6.15.15//NONSGML v1.0//EN
CALSCALE:GREGORIAN
METHOD:PUBLISH
X-WR-CALNAME:Netherby Hall
X-ORIGINAL-URL:https://netherbyhall.co.uk
X-WR-CALDESC:Events for Netherby Hall
REFRESH-INTERVAL;VALUE=DURATION:PT1H
X-Robots-Tag:noindex
X-PUBLISHED-TTL:PT1H
BEGIN:VTIMEZONE
TZID:Europe/London
BEGIN:DAYLIGHT
TZOFFSETFROM:+0000
TZOFFSETTO:+0100
TZNAME:BST
DTSTART:20230326T010000
END:DAYLIGHT
BEGIN:STANDARD
TZOFFSETFROM:+0100
TZOFFSETTO:+0000
TZNAME:GMT
DTSTART:20231029T010000
END:STANDARD
BEGIN:DAYLIGHT
TZOFFSETFROM:+0000
TZOFFSETTO:+0100
TZNAME:BST
DTSTART:20240331T010000
END:DAYLIGHT
BEGIN:STANDARD
TZOFFSETFROM:+0100
TZOFFSETTO:+0000
TZNAME:GMT
DTSTART:20241027T010000
END:STANDARD
BEGIN:DAYLIGHT
TZOFFSETFROM:+0000
TZOFFSETTO:+0100
TZNAME:BST
DTSTART:20250330T010000
END:DAYLIGHT
BEGIN:STANDARD
TZOFFSETFROM:+0100
TZOFFSETTO:+0000
TZNAME:GMT
DTSTART:20251026T010000
END:STANDARD
END:VTIMEZONE
BEGIN:VEVENT
DTSTART;TZID=Europe/London:20241115T183000
DTEND;TZID=Europe/London:20241115T183000
DTSTAMP:20260423T062137
CREATED:20240614T105648Z
LAST-MODIFIED:20241022T075336Z
UID:12270-1731695400-1731695400@netherbyhall.co.uk
SUMMARY:Concert Series - Elly Suh & Yuki Negishi\, Violin & Piano
DESCRIPTION:Elly Suh\, violin & Yuki Negishi\, piano \nPraised as “a sensitive and absorbing interpreter” (Musical America)\, Korean-American violinist Elly Suh stands out as a performer whose musical charm\, interpretative originality\, and unique creative vision breathe fresh life to concert stages around the world. \nYuki Negishi has established herself as a pianist of rare poetry\, passion and virtuosity\, equally at home as an adjudicator\, educator and researcher\, captivating audiences wherever she performs around the world. \n \n \n\n		\n\n	\n\n\n\n\n\n\nLive Concerts at Netherby Hall are hosted in conjunction with Absolute Classics\, a charity connecting individuals with the world’s finest music.\n \n \n\n		\n\n	\n\n\n\n\n\n\nProgramme:\n\n Bazzini Calabrese Op. 34\n						Chopin Ballade No.1 in G min\, arr.Ysayë\n						Tartini Devil’s Trill Sonata \n						– Interval – \nPaganini Caprice No.11 for solo violin\n						Widmann Etude III for solo violin\n						Waxman Carmen Fantasie\n					 \n \n \n\n		\n \n\n\n\nTickets and More Info\n\nFriday 15th November\, 6:30pm \nTickets £15 for adults\, Free for under 26’s. \nPre-booked 2 Course Dinner available – Additional £35 per head. \nMenu for Pre-booked dinner will be sent by email prior to the concert. \nOn-site car parking is provided. \n \n \n\n		\n \n\n\n\nPre-booked Dinner Menu\n\nOur 2 Course Menu for pre-booked dinner for the evening is as follows: \nOven baked fillet of salmonon a bed of wilted spinach and a white wine sauce   \nStuffed portobello mushroomwith Mediterranean vegetable rice topped with cheese and a creamy mushroom sauce  \nFollowed by a Trio of Seasonal Desserts or Cheese & biscuits.
URL:https://netherbyhall.co.uk/event/concert-series-elly-suh-yuki-negishi-violin-piano/
LOCATION:Netherby Hall\, Longtown\, Carlisle\, CA65PR\, United Kingdom
CATEGORIES:Netherby Hall Music Events
ATTACH;FMTTYPE=image/jpeg:https://netherbyhall.co.uk/wp-content/uploads/2024/06/elly_yuki.jpg
ORGANIZER;CN="Netherby Hall":MAILTO:events@netherbyhall.co.uk
END:VEVENT
END:VCALENDAR