BEGIN:VCALENDAR
VERSION:2.0
PRODID:-//Netherby Hall - ECPv6.15.15//NONSGML v1.0//EN
CALSCALE:GREGORIAN
METHOD:PUBLISH
X-WR-CALNAME:Netherby Hall
X-ORIGINAL-URL:https://netherbyhall.co.uk
X-WR-CALDESC:Events for Netherby Hall
REFRESH-INTERVAL;VALUE=DURATION:PT1H
X-Robots-Tag:noindex
X-PUBLISHED-TTL:PT1H
BEGIN:VTIMEZONE
TZID:Europe/London
BEGIN:DAYLIGHT
TZOFFSETFROM:+0000
TZOFFSETTO:+0100
TZNAME:BST
DTSTART:20240331T010000
END:DAYLIGHT
BEGIN:STANDARD
TZOFFSETFROM:+0100
TZOFFSETTO:+0000
TZNAME:GMT
DTSTART:20241027T010000
END:STANDARD
BEGIN:DAYLIGHT
TZOFFSETFROM:+0000
TZOFFSETTO:+0100
TZNAME:BST
DTSTART:20250330T010000
END:DAYLIGHT
BEGIN:STANDARD
TZOFFSETFROM:+0100
TZOFFSETTO:+0000
TZNAME:GMT
DTSTART:20251026T010000
END:STANDARD
BEGIN:DAYLIGHT
TZOFFSETFROM:+0000
TZOFFSETTO:+0100
TZNAME:BST
DTSTART:20260329T010000
END:DAYLIGHT
BEGIN:STANDARD
TZOFFSETFROM:+0100
TZOFFSETTO:+0000
TZNAME:GMT
DTSTART:20261025T010000
END:STANDARD
END:VTIMEZONE
BEGIN:VEVENT
DTSTART;TZID=Europe/London:20250314T183000
DTEND;TZID=Europe/London:20250314T183000
DTSTAMP:20260422T231408
CREATED:20240614T130045Z
LAST-MODIFIED:20250122T093911Z
UID:12300-1741977000-1741977000@netherbyhall.co.uk
SUMMARY:Concert Series - Brodsky Trio\, Piano Trio
DESCRIPTION:Brodsky Trio\nFormed in 2020\, the “Brodsky Trio” has already achieved global recognition with numerous recordings and concert tours. The engagements include performances at the Berlin Philharmonic Hall\, the Zurich Tonhalle\, the Baden- Baden Festspielhaus\, the Ankara Presidential Concert Hall and the Atatürk Concert Hall. \nKirill Troussov\, violin –\n						Benedict Kloeckner\, cello –\n						Alexandra Troussova\, piano \n \n \n\n		\n\n	\n\n\n\n\n\n\nLive Concerts at Netherby Hall are hosted in conjunction with Absolute Classics\, a charity connecting individuals with the world’s finest music.\n \n \n\n		\n\n	\n\n\n\n\n\n\nProgramme:\n\nGlasunov Chant du ménestrel for cello and pianoDucros Encore for cello and pianoWieniawski Legende Op 17 for violin and pianoWieniawski Polonaise de Concert in D Major Op 4 for violin and piano \n						– Interval – \nTchaikovsky Trio in A min\n					 \n \n \n\n		\n \n\n\n\nTickets and More Info\n\nFriday 14th March\, 6:30pm \nTickets £15 for adults\, Free for under 26’s. \nPre-booked 2 Course Dinner available – Additional £35 per head. \nMenu for Pre-booked dinner will be sent by email prior to the concert. \nOn-site car parking is provided. \n \n \n\n		\n \n\n\n\nPre-booked Dinner Menu\n\nOur 2 Course Menu for pre-booked dinner for the evening is as follows: \nHerb and Hazelnut crusted beef ribwith rich red wine gravy   \nVerdi Ricotta DI Cannellonirolled pasta topped with mozzarella served with a rich tomato ragu and parmesan shavings   \nFollowed by a Trio of Seasonal Desserts or Cheese and Biscuits.
URL:https://netherbyhall.co.uk/event/concert-series-kleockner-trio-piano-trio/
LOCATION:Netherby Hall\, Longtown\, Carlisle\, CA65PR\, United Kingdom
CATEGORIES:Netherby Hall Music Events
ATTACH;FMTTYPE=image/jpeg:https://netherbyhall.co.uk/wp-content/uploads/2024/06/Brodsky_Trio©M.Borggreve.Borggereve_1jpg-scaled-e1719927402261.jpg
ORGANIZER;CN="Netherby Hall":MAILTO:events@netherbyhall.co.uk
END:VEVENT
END:VCALENDAR