BEGIN:VCALENDAR
VERSION:2.0
PRODID:-//Netherby Hall - ECPv6.15.15//NONSGML v1.0//EN
CALSCALE:GREGORIAN
METHOD:PUBLISH
X-WR-CALNAME:Netherby Hall
X-ORIGINAL-URL:https://netherbyhall.co.uk
X-WR-CALDESC:Events for Netherby Hall
REFRESH-INTERVAL;VALUE=DURATION:PT1H
X-Robots-Tag:noindex
X-PUBLISHED-TTL:PT1H
BEGIN:VTIMEZONE
TZID:Europe/London
BEGIN:DAYLIGHT
TZOFFSETFROM:+0000
TZOFFSETTO:+0100
TZNAME:BST
DTSTART:20250330T010000
END:DAYLIGHT
BEGIN:STANDARD
TZOFFSETFROM:+0100
TZOFFSETTO:+0000
TZNAME:GMT
DTSTART:20251026T010000
END:STANDARD
BEGIN:DAYLIGHT
TZOFFSETFROM:+0000
TZOFFSETTO:+0100
TZNAME:BST
DTSTART:20260329T010000
END:DAYLIGHT
BEGIN:STANDARD
TZOFFSETFROM:+0100
TZOFFSETTO:+0000
TZNAME:GMT
DTSTART:20261025T010000
END:STANDARD
BEGIN:DAYLIGHT
TZOFFSETFROM:+0000
TZOFFSETTO:+0100
TZNAME:BST
DTSTART:20270328T010000
END:DAYLIGHT
BEGIN:STANDARD
TZOFFSETFROM:+0100
TZOFFSETTO:+0000
TZNAME:GMT
DTSTART:20271031T010000
END:STANDARD
BEGIN:DAYLIGHT
TZOFFSETFROM:+0000
TZOFFSETTO:+0100
TZNAME:BST
DTSTART:20280326T010000
END:DAYLIGHT
BEGIN:STANDARD
TZOFFSETFROM:+0100
TZOFFSETTO:+0000
TZNAME:GMT
DTSTART:20281029T010000
END:STANDARD
END:VTIMEZONE
BEGIN:VEVENT
DTSTART;TZID=Europe/London:20260116T183000
DTEND;TZID=Europe/London:20260116T183000
DTSTAMP:20260423T095450
CREATED:20250409T104708Z
LAST-MODIFIED:20260112T151413Z
UID:13788-1768588200-1768588200@netherbyhall.co.uk
SUMMARY:Concert Series - Nancy Holt\, Mezzo-soprano & Ashley Beauchamp\, Piano
DESCRIPTION:An evening of Opera & SongNancy Holt & Ashley Beauchamp\nNancy Holt – Mezzo-soprano Nancy Holt made her debut at The Royal Ballet and Opera in Like Water for Chocolate and is currently covering\n						Hebe in HMS Pinafore at English National Opera. A graduate of the National Opera Studio and Guildhall School\, Nancy is a current\n						Young Artist with Oxford International Song Festival and Britten Pears\, and a recipient of the Musicians’ Company Salomon Seelig\n						Award. Recent highlights include her Wigmore Hall debut\, second prize at The Ashburnham English Song Awards\, and the Simon\n						Sandbach Award at Garsington Opera. \nAshley Beauchamp – British pianist and conductor Ashley Beauchamp trained at the Guildhall School of Music and Drama. He has a longstanding\n						association with Glyndebourne Opera\, conducting the world premiere of glass human and assisting on productions including L’elisir\n						d’amore and Pay the Piper. In 2024/25\, Ashley returns to Glyndebourne as assistant conductor for La Traviata\, Il barbiere di Siviglia\,\n						and the premiere of Jonathan Dove’s Uprising. \n \n \n \n \n\n\n\n\n\n\nLive Concerts at Netherby Hall are hosted in conjunction with Absolute Classics\, a charity connecting individuals with the world’s finest music.\n \n \n \n \n\n\n\n\n\n\nProgramme:\n\nFirst Half\n\n						L’incoronazione di Poppea – Claudio Monteverdi (1567–1643)\n						“Disprezzata regina” \n						Orfeo ed Euridice – Christoph Willibald Gluck (1714–1787)\n						“Che farò senza Euridice?” \n						Serse – George Frideric Handel (1685–1759)\n						“Ombra mai fu” \n						Les Nuits d’été – Hector Berlioz (1803–1869)\n						I. Villanelle\n						II. Le Spectre de la rose\n						VI. L’Île inconnue \n						Lili Boulanger (1893–1918)\n						Reflets \n						Trois Mélodies Op. 23 – Gabriel Fauré (1845–1924)\n						I. Les berceaux \n						Trois Mélodies – Olivier Messiaen (1908–1992)\n						I. Pourquoi?\n						II. Le sourire\n						III. La fiancée perdue \n						Alcina – George Frideric Handel (1685–1759)\n						“Sta nell’ircana”\n					 \n\nSecond Half\n\n						Romeo et Juliette – Charles Gounod (1818–1893)\n						“Que fais-tu\, blanche tourterelle?” \n						Lieder eines fahrenden Gesellen – Gustav Mahler (1860–1911)\n						I. Wenn mein Schatz Hochzeit macht\n						II. Ging heut’ Morgen über’s Feld \n						Emily Hazrati (1998–)\n						The Sick Rose \n						Rebecca Clarke (1886–1979)\n						Cradle Song \n						Frank Bridge (1879–1941)\n						Tiger\, Tiger\n						Come to me in my dreams \n						Songs of Travel – Ralph Vaughan Williams (1872–1958)\n						II. Let Beauty Awake \n						All You Who Sleep Tonight – Jonathan Dove (1959–)\n						XIII. All You Who Sleep Tonight \n						Trouble in Tahiti – Leonard Bernstein (1918–1990)\n						“What a movie!!” \n						Paper Wings – Jake Heggie (1961–)\n						IV. A Route to the Sky\n					 \n \n \n \n \n\n\n\n\n\n\nTickets and More Info\n\nFriday 16 January\, 6:30pm \nTickets £20 for adults\, Free for under 26’s. \nPre-booked 2 Course Dinner available – Additional £40 per head. Dinner tickets are available up until midday\, one week before the concert. \nMenu for Pre-booked dinner will be sent by email prior to the concert. \nOn-site car parking is provided. \n \n \n \n\n\n\nPre-booked Dinner Menu\n\nOur 2 Course Menu for pre-booked dinner for the evening is as follows: \nHaggis\, neeps and tattieswhiskey and mustard sauce \nVegetarian haggis\, neeps and tatties (v)whiskey and mustard sauce \nFollowed by Raspberry cranachan or cheese selection. \nCatering provided by Bespoke Catering Cumbria
URL:https://netherbyhall.co.uk/event/concert-series-nancy-holt-mezzo-soprano-ashley-beauchamp-piano/
LOCATION:Netherby Hall\, Longtown\, Carlisle\, CA65PR\, United Kingdom
CATEGORIES:Netherby Hall Music Events
ATTACH;FMTTYPE=image/jpeg:https://netherbyhall.co.uk/wp-content/uploads/2025/04/StephenAsh.jpg
ORGANIZER;CN="Netherby Hall":MAILTO:events@netherbyhall.co.uk
END:VEVENT
BEGIN:VEVENT
DTSTART;TZID=Europe/London:20260213T183000
DTEND;TZID=Europe/London:20260213T183000
DTSTAMP:20260423T095450
CREATED:20250409T104713Z
LAST-MODIFIED:20251201T115423Z
UID:13789-1771007400-1771007400@netherbyhall.co.uk
SUMMARY:Concert Series - Ensemble Jackalope
DESCRIPTION:Ensemble Jackalope\nCharlotte Spruit – Violinist Charlotte Spruit is a passionate chamber musician and soloist\, having performed at prominent locations\, such as the Concertgebouw\, Wigmore Hall\, and the Elbphilharmonie. In 2023\, Charlotte won the Young Classical Artists Trust (YCAT) International Auditions held at Wigmore Hall\, and in 2022\, she won the first prize as well as the audience prize and the Genuin Classics prize at the Leipzig International Johann Sebastian Bach Competition. \nEdgar Francis – Welsh violist Edgar Francis is a dynamic musician\, taking pride in influences that span a broad spectrum of genres and eras. A 1st Prize at the 2021 Cecil Aronowitz International Competition kickstarted a rapidly growing career\, and soon his debut album will be released on Champs Hill. \nHugh Mackay – Scottish cellist Hugh Mackay is an avid chamber musician and is currently a chamber music scholar at the Landesstiftung Villa Musica in Neuwied-Engers\, Germany\, where he performs with world-leading musicians and fellow young artists. Hugh was a semi-finalist at the 2024 International Bach Competition in Leipzig and was a finalist and Special Prize winner at the 2025 Royal Overseas League Strings Competition. \nJunyan Chen – Junyan won Second Prize at the Leeds International Piano Competition 2024\, also winning the chamber music prize and Alexandra Dariescu award for a work by a woman composer. In the final she performed Rachmaninov Piano Concerto No. 4 with the Royal Liverpool Philharmonic and Domingo Hindoyan. She has also performed this work with Edward Gardner and the Royal Academy of Music Symphony Orchestra in a concert that was live-streamed on Classic FM. \n \n \n \n \n\n\n\n\n\n\nLive Concerts at Netherby Hall are hosted in conjunction with Absolute Classics\, a charity connecting individuals with the world’s finest music.\n \n \n \n \n\n\n\n\n\n\nProgramme:\n\n\n						Bridge Phantasy Piano Quartet\n						Enescu Piano Quartet No. 2 \n						– Interval – \n						Fauré Piano Quartet No. 1 in C minor\n					 \n \n \n \n\n\n\nTickets and More Info\n\nFriday 13 February\, 6:30pm \nTickets £20 for adults\, Free for under 26’s. \nPre-booked 2 Course Dinner available – Additional £40 per head. Dinner tickets are available up until midday\, one week before the concert. \nMenu for Pre-booked dinner will be sent by email prior to the concert. \nOn-site car parking is provided. \n \n \n \n\n\n\nPre-booked Dinner Menu\n\n					 \nOur 2 Course Menu for pre-booked dinner for the evening is as follows: \nBeef saltimboccawith sage mash\, green beans \nTofu saltimbocca (v)with sage mash\, green beans \nFollowed by a Crème brûlée or Cheese selection. \nCatering provided by Bespoke Catering Cumbria
URL:https://netherbyhall.co.uk/event/concert-series-ensemble-jackalope/
LOCATION:Netherby Hall\, Longtown\, Carlisle\, CA65PR\, United Kingdom
CATEGORIES:Netherby Hall Music Events
ATTACH;FMTTYPE=image/png:https://netherbyhall.co.uk/wp-content/uploads/2025/04/hughmackay.png
END:VEVENT
BEGIN:VEVENT
DTSTART;TZID=Europe/London:20260320T183000
DTEND;TZID=Europe/London:20260320T183000
DTSTAMP:20260423T095450
CREATED:20250409T104716Z
LAST-MODIFIED:20260123T113639Z
UID:13790-1774031400-1774031400@netherbyhall.co.uk
SUMMARY:Concert Series - Konstantin Soukhovetski\, Piano
DESCRIPTION:Konstantin Soukhovetski\nKonstantin Soukhovetski is regarded as an original creative force among the pianists of his generation\, in a career that has gained him audiences’ tributes and critics’ accolades in the US\, Africa\, Asia\, and Europe. A recipient of over 17 awards and winner of top prizes at the Cleveland\, Naumburg\, and UNISA competitions\, Konstantin has made his reputation applying his singular interpretive vision and natural virtuosity to the cornerstones of solo and concerto repertory. \nKonstantin is also an internationally renowned composer\, with critically acclaimed works such as his transcription of R. Strauss’ Four Last Songs\, premiered at the L’Esprit du Piano festival in Bordeaux (France)\, and The Pride Suite for solo piano\, commissioned by the ProtoStar Foundation. The Pride Suite has been scheduled for multiple national and international premieres in the 2023/24 season. \n \n \n \n \n\n\n\n\n\n\nLive Concerts at Netherby Hall are hosted in conjunction with Absolute Classics\, a charity connecting individuals with the world’s finest music.\n \n \n \n \n\n\n\n\n\n\nProgramme:\n\n\n						Schubert Sonata in B flat D.960 \n						– Interval – \n						Soukhovetski The Pride Suite (UK Premiere)\n					 \n \n \n \n\n\n\nTickets and More Info\n\nFriday 20 March\, 6:30pm \nTickets £20 for adults\, Free for under 26’s. \nPre-booked 2 Course Dinner available – Additional £40 per head. Dinner tickets are available up until midday\, one week before the concert. \nMenu for Pre-booked dinner will be sent by email prior to the concert. \nOn-site car parking is provided. \n \n \n \n\n\n\nPre-booked Dinner Menu\n\nOur 2 Course Menu for pre-booked dinner for the evening is as follows: \nJerk Pork Belly with Rice & Beans\, w/ Pineapple Salsa \nVegetarian sausage\, mash\, veggie black pudding\, crispy onion\, gravy \nFollowed by Sticky toffee pudding (butterscotch sauce\, vanilla ice cream) or cheese selection. \nCatering provided by Bespoke Catering Cumbria
URL:https://netherbyhall.co.uk/event/concert-series-konstantin-soukhovetski-piano/
LOCATION:Netherby Hall\, Longtown\, Carlisle\, CA65PR\, United Kingdom
CATEGORIES:Netherby Hall Music Events
ATTACH;FMTTYPE=image/jpeg:https://netherbyhall.co.uk/wp-content/uploads/2025/04/ks3.jpg
END:VEVENT
BEGIN:VEVENT
DTSTART;VALUE=DATE:20260724
DTEND;VALUE=DATE:20260725
DTSTAMP:20260423T095450
CREATED:20250917T081859Z
LAST-MODIFIED:20260416T194701Z
UID:14477-1784851200-1784937599@netherbyhall.co.uk
SUMMARY:Georgia Cécile - Jazz Night at Netherby Hall
DESCRIPTION:Georgia Cécile – with Euan Stevenson\n\n						Georgia Cécile is a UK award-winning jazz vocalist\, championed by Gregory Porter and Jamie Cullum. A rising star of the UK jazz scene\, she has headlined sold-out shows at Ronnie Scott’s\, wowed audiences at international festivals\, and performed with the BBC Concert Orchestra at the Royal Albert Hall.\n					 \n\n						For this intimate duo performance at the stunning Netherby Hall\, Georgia will be joined by her long-time collaborator\, pianist and composer Euan Stevenson. Together\, they’ll reimagine timeless jazz standards and showcase original music that blends elegance\, soul\, and uplifting energy.\n					 \n					\n				\n \n \n \n\n\n\n\n\n\nTickets and Performance\n\nArrival: 24th July 2026\, 7:00pmPerformance starts: 7:30pm \n\n						Georgia Cécile – vocals\n						Euan Stevenson – piano\n					 \nTickets £40 per person \nOn-site car parking is provided. \n \n \n \n\n\n\nFood & Drink\n\n\n						Enjoy a relaxed evening atmosphere with a paid bar serving a selection of wines\, spirits\, snacks and soft drinks.\n					 \n\n						A selection of bar snacks will be provided on tables for guests to enjoy during the performance.
URL:https://netherbyhall.co.uk/event/georgia-cecile-jazz-night-at-netherby-hall/
LOCATION:Netherby Hall\, Longtown\, Carlisle\, CA65PR\, United Kingdom
CATEGORIES:Netherby Hall Music Events
ATTACH;FMTTYPE=image/webp:https://netherbyhall.co.uk/wp-content/uploads/2025/09/Georgia.webp
ORGANIZER;CN="Netherby Hall":MAILTO:events@netherbyhall.co.uk
END:VEVENT
BEGIN:VEVENT
DTSTART;TZID=Europe/London:20261231T193000
DTEND;TZID=Europe/London:20270101T010000
DTSTAMP:20260423T095450
CREATED:20260313T121048Z
LAST-MODIFIED:20260313T122315Z
UID:15130-1798745400-1798765200@netherbyhall.co.uk
SUMMARY:Join us for a NYE Ceilidh at Netherby Hall 2026
DESCRIPTION:Join us for an exclusive evening of live music and entertainment at the grand Netherby Hall. We welcome you to dance the night away in the great Oak Hall with 3 piece strong Ceilidh band.\n\n						TUESDAY 31st DECEMBER 2025 | 7:30pm until 1:00am\n					 \nTicket price includes a fun filled evening of Ceilidh dancing including a late evening buffet.  \nDress ready to move and shake\, sensible footwear a must.  \nTicket sales over the phone (01228 792732) up until the night\, with limited availability. \nTickets will be available to purchase online soon.
URL:https://netherbyhall.co.uk/event/join-us-for-a-nye-ceilidh-at-netherby-hall-2026/
LOCATION:Netherby Hall\, Longtown\, Carlisle\, CA65PR\, United Kingdom
CATEGORIES:Netherby Hall Music Events
ATTACH;FMTTYPE=image/jpeg:https://netherbyhall.co.uk/wp-content/uploads/2023/10/a2.jpg
ORGANIZER;CN="Netherby Hall":MAILTO:events@netherbyhall.co.uk
END:VEVENT
END:VCALENDAR