BEGIN:VCALENDAR
VERSION:2.0
PRODID:-//Netherby Hall - ECPv6.15.15//NONSGML v1.0//EN
CALSCALE:GREGORIAN
METHOD:PUBLISH
X-WR-CALNAME:Netherby Hall
X-ORIGINAL-URL:https://netherbyhall.co.uk
X-WR-CALDESC:Events for Netherby Hall
REFRESH-INTERVAL;VALUE=DURATION:PT1H
X-Robots-Tag:noindex
X-PUBLISHED-TTL:PT1H
BEGIN:VTIMEZONE
TZID:Europe/London
BEGIN:DAYLIGHT
TZOFFSETFROM:+0000
TZOFFSETTO:+0100
TZNAME:BST
DTSTART:20210328T010000
END:DAYLIGHT
BEGIN:STANDARD
TZOFFSETFROM:+0100
TZOFFSETTO:+0000
TZNAME:GMT
DTSTART:20211031T010000
END:STANDARD
BEGIN:DAYLIGHT
TZOFFSETFROM:+0000
TZOFFSETTO:+0100
TZNAME:BST
DTSTART:20220327T010000
END:DAYLIGHT
BEGIN:STANDARD
TZOFFSETFROM:+0100
TZOFFSETTO:+0000
TZNAME:GMT
DTSTART:20221030T010000
END:STANDARD
BEGIN:DAYLIGHT
TZOFFSETFROM:+0000
TZOFFSETTO:+0100
TZNAME:BST
DTSTART:20230326T010000
END:DAYLIGHT
BEGIN:STANDARD
TZOFFSETFROM:+0100
TZOFFSETTO:+0000
TZNAME:GMT
DTSTART:20231029T010000
END:STANDARD
END:VTIMEZONE
BEGIN:VEVENT
DTSTART;TZID=Europe/London:20220520T183000
DTEND;TZID=Europe/London:20220520T230000
DTSTAMP:20260423T123150
CREATED:20220419T105052Z
LAST-MODIFIED:20220428T072350Z
UID:7715-1653071400-1653087600@netherbyhall.co.uk
SUMMARY:Jazz Night at Netherby Hall
DESCRIPTION:Enjoy an evening of Jazz with Georgia Cecile and Stephen Duffy supported by the Euan Stevenson Trio. Includes 3 Course dinner in the Oak Hall. \nGeorgia Cecile\, Scottish Jazz Vocalist of the Year 2021\, and Stephen Duffy\, the BBC’s Voice of Jazz in Scotland for over a decade will headline the evening entertainment with support from the Euan Stevenson Trio. \nClick here to buy tickets
URL:https://netherbyhall.co.uk/event/jazz-night-netherby-hall/
LOCATION:Netherby Hall\, Longtown\, Carlisle\, CA65PR\, United Kingdom
ATTACH;FMTTYPE=image/jpeg:https://netherbyhall.co.uk/wp-content/uploads/2022/04/Jazz-Night-20-May-2022.jpeg
ORGANIZER;CN="Netherby Hall":MAILTO:events@netherbyhall.co.uk
END:VEVENT
END:VCALENDAR