BEGIN:VCALENDAR
VERSION:2.0
PRODID:-//Netherby Hall - ECPv6.15.15//NONSGML v1.0//EN
CALSCALE:GREGORIAN
METHOD:PUBLISH
X-WR-CALNAME:Netherby Hall
X-ORIGINAL-URL:https://netherbyhall.co.uk
X-WR-CALDESC:Events for Netherby Hall
REFRESH-INTERVAL;VALUE=DURATION:PT1H
X-Robots-Tag:noindex
X-PUBLISHED-TTL:PT1H
BEGIN:VTIMEZONE
TZID:Europe/London
BEGIN:DAYLIGHT
TZOFFSETFROM:+0000
TZOFFSETTO:+0100
TZNAME:BST
DTSTART:20210328T010000
END:DAYLIGHT
BEGIN:STANDARD
TZOFFSETFROM:+0100
TZOFFSETTO:+0000
TZNAME:GMT
DTSTART:20211031T010000
END:STANDARD
BEGIN:DAYLIGHT
TZOFFSETFROM:+0000
TZOFFSETTO:+0100
TZNAME:BST
DTSTART:20220327T010000
END:DAYLIGHT
BEGIN:STANDARD
TZOFFSETFROM:+0100
TZOFFSETTO:+0000
TZNAME:GMT
DTSTART:20221030T010000
END:STANDARD
BEGIN:DAYLIGHT
TZOFFSETFROM:+0000
TZOFFSETTO:+0100
TZNAME:BST
DTSTART:20230326T010000
END:DAYLIGHT
BEGIN:STANDARD
TZOFFSETFROM:+0100
TZOFFSETTO:+0000
TZNAME:GMT
DTSTART:20231029T010000
END:STANDARD
END:VTIMEZONE
BEGIN:VEVENT
DTSTART;TZID=Europe/London:20220820T183000
DTEND;TZID=Europe/London:20220820T230000
DTSTAMP:20260420T231110
CREATED:20220623T112614Z
LAST-MODIFIED:20220815T122411Z
UID:8262-1661020200-1661036400@netherbyhall.co.uk
SUMMARY:A Summer Evening of Jazz at Netherby Hall
DESCRIPTION:With Georgia Cecile & Fraser Urquhart.\n						Multi award-winning piano and voice duo\, GEORGIA CECILE and FRASER URQUHART boast timeless romanticism and effortless class in their interpretations of the American Songbook\, soul\, pop and original compositions. \n						Individually they have been championed by the likes of Gregory Porter and Jamie Cullum on BBC Radio 2 and have performed at numerous jazz festivals across the country. The two artists are a couple who have honed their craft together through their own personal love story\, and stand together at the helm of the young\, vibrant UK music scene.  \n						Having recorded their debut duo album at Netherby Hall this summer\, this concert is a special preview of the material\, all of which are pieces that celebrate love.\n						 \n					\n				\n			\n		\n	\n\n\n	\n		\n			\n				\n					\n						\n					\n				\n			\n		\n	\n\n\n	\n		\n			\n				\n					Enjoy an evening of Jazz with Georgia Cecile. \n					Includes 3 Course dinner in the Oak Hall. \n\n				\n			\n			\n				\n					Arrival at 6:30 for Drinks. Dinner will be served at 7pm\, with an evening of Jazz opening at 8:30pm.  \n					Buy your tickets now to ensure availability\, purchasable on our website with no booking fee. A menu will become available for guests to preorder\, dietary requirements can be catered for. All tickets must be pre-booked online.
URL:https://netherbyhall.co.uk/event/a-summer-evening-of-jazz-at-netherby-hall/
LOCATION:Netherby Hall\, Longtown\, Carlisle\, CA65PR\, United Kingdom
CATEGORIES:Netherby Hall Music Events
ATTACH;FMTTYPE=image/jpeg:https://netherbyhall.co.uk/wp-content/uploads/2022/08/Georgia_Cecile.jpg
ORGANIZER;CN="Netherby Hall":MAILTO:events@netherbyhall.co.uk
END:VEVENT
BEGIN:VEVENT
DTSTART;TZID=Europe/London:20220806T100000
DTEND;TZID=Europe/London:20220807T150000
DTSTAMP:20260420T231110
CREATED:20220404T081142Z
LAST-MODIFIED:20220805T100007Z
UID:7356-1659780000-1659884400@netherbyhall.co.uk
SUMMARY:Netherby Hall Annual Car Show 2022
DESCRIPTION:Online ticket sales are now closed. You can still buy tickets on the gate.\n\nThis year you can expect to see Aston Martin’s full fleet on display for you to marvel and sit in! \nSet in the beautiful Cumbrian countryside\, Netherby Hall hosts a fantastic car show which displays some of the best and unique classic cars that the UK has to offer. \nThe Netherby Hall Classic Car show will be held on Saturday 6th and Sunday 7th of August 2022. To see the latest updates for this event please visit our website or our social media accounts\, which can be found here: Facebook. Instagram. \nWe are located in the heart of the Cumbrian countryside and surrounded by fields\, forests and beautiful wildlife. \nNetherby\, Longtown\, Carlisle\, Cumbria. CA6 5PR- is our address for those needing it. \nPlease see below for more details. Kids under the age of 16 get FREE entry. Parking is included in your ticket price. You can buy tickets on the gate over the weekend. \n\n\n\n\n\n\n	\n		\n			\n				\n					Netherby Hall's 2022 Car Show is sponsored by Aston Martin Edinburgh. \n				\n			\n			\n				\n\n					See and learn about rare vintage and classic cars\, performance and supercars; see a full fleet of Aston Martins that you can sit in.\n\n\n				\n			\n			\n				\n\n					We are very privileged to host and witness some extremely rare performance and classic cars that all have their own unique designs and history. Each car has interesting information about its origin\, details and more to educate the visitors. \n\n\n				\n			\n			\n		\n		\n			\n				\n			\n			\n				\n					If you’re in need of something to look forward to\, then the Classic and Performance Car Show at Netherby Hall is a great opportunity to experience a safe\, fun day out this summer. \n					The Netherby Hall classic car show is an event designed for the whole family to enjoy. Not only are there a range of exciting cars for you to explore\, but there will also be plenty of stalls to visit and buy from. \n				\n			\n		\n		\n			\n				\n					The location for the event\, Netherby Hall\, is located in the beautiful countryside of Cumbria. Surrounded by nature and wildlife\, there is plenty to enjoy when visiting Netherby Hall.  \n				\n			\n			\n				\n			\n			\n				\n					Your drive to the event will be packed with long and quiet roads\, boasting personality as you cruise through the countryside.
URL:https://netherbyhall.co.uk/event/netherby-hall-2022-car-show-in-cumbria/
LOCATION:Netherby Hall\, Longtown\, Carlisle\, CA65PR\, United Kingdom
CATEGORIES:Car Show Weekend
ATTACH;FMTTYPE=image/webp:https://netherbyhall.co.uk/wp-content/uploads/2022/04/Netherby-Hall-Car-Show-2022-August-Summer-Classic-Exotic.webp
ORGANIZER;CN="Netherby Hall":MAILTO:events@netherbyhall.co.uk
END:VEVENT
BEGIN:VEVENT
DTSTART;TZID=Europe/London:20220521T100000
DTEND;TZID=Europe/London:20220522T160000
DTSTAMP:20260420T231110
CREATED:20220422T100901Z
LAST-MODIFIED:20220428T072445Z
UID:7923-1653127200-1653235200@netherbyhall.co.uk
SUMMARY:The Netherby Hall Spring Fair 2022
DESCRIPTION:SATURDAY\, MAY 21 & SUNDAY\, MAY 22\, 2022 AT 10 AM – 4 PM \nAfter the success of our annual Christmas Craft Fair over the past few years\, this year we’re opening our doors for our inaugural Spring Fair. \nWe look forward to creating a stand-out calendar event celebrating local craft businesses\, artists\, and food vendors\,\nspanning the North South divide – just like our location. Held over two days\, our Spring Fair is free entry and free parking. \nWe welcome you to join us to browse and shop a variety of stalls\, meet the beautiful independent businesses\, local movers and shakers\, and all-round lovely people that shape this event\, enjoy good food and explore the Walled Gardens and grounds. \nFree entry and parking
URL:https://netherbyhall.co.uk/event/the-netherby-hall-spring-fair-2022/
LOCATION:Netherby Hall\, Longtown\, Carlisle\, CA65PR\, United Kingdom
ATTACH;FMTTYPE=image/webp:https://netherbyhall.co.uk/wp-content/uploads/2022/04/Spring-Fair-FB-event-banner.webp
ORGANIZER;CN="Netherby Hall":MAILTO:events@netherbyhall.co.uk
END:VEVENT
BEGIN:VEVENT
DTSTART;TZID=Europe/London:20220520T183000
DTEND;TZID=Europe/London:20220520T230000
DTSTAMP:20260420T231110
CREATED:20220419T105052Z
LAST-MODIFIED:20220428T072350Z
UID:7715-1653071400-1653087600@netherbyhall.co.uk
SUMMARY:Jazz Night at Netherby Hall
DESCRIPTION:Enjoy an evening of Jazz with Georgia Cecile and Stephen Duffy supported by the Euan Stevenson Trio. Includes 3 Course dinner in the Oak Hall. \nGeorgia Cecile\, Scottish Jazz Vocalist of the Year 2021\, and Stephen Duffy\, the BBC’s Voice of Jazz in Scotland for over a decade will headline the evening entertainment with support from the Euan Stevenson Trio. \nClick here to buy tickets
URL:https://netherbyhall.co.uk/event/jazz-night-netherby-hall/
LOCATION:Netherby Hall\, Longtown\, Carlisle\, CA65PR\, United Kingdom
ATTACH;FMTTYPE=image/jpeg:https://netherbyhall.co.uk/wp-content/uploads/2022/04/Jazz-Night-20-May-2022.jpeg
ORGANIZER;CN="Netherby Hall":MAILTO:events@netherbyhall.co.uk
END:VEVENT
END:VCALENDAR