BEGIN:VCALENDAR
VERSION:2.0
PRODID:-//Netherby Hall - ECPv6.15.15//NONSGML v1.0//EN
CALSCALE:GREGORIAN
METHOD:PUBLISH
X-ORIGINAL-URL:https://netherbyhall.co.uk
X-WR-CALDESC:Events for Netherby Hall
REFRESH-INTERVAL;VALUE=DURATION:PT1H
X-Robots-Tag:noindex
X-PUBLISHED-TTL:PT1H
BEGIN:VTIMEZONE
TZID:Europe/London
BEGIN:DAYLIGHT
TZOFFSETFROM:+0000
TZOFFSETTO:+0100
TZNAME:BST
DTSTART:20220327T010000
END:DAYLIGHT
BEGIN:STANDARD
TZOFFSETFROM:+0100
TZOFFSETTO:+0000
TZNAME:GMT
DTSTART:20221030T010000
END:STANDARD
BEGIN:DAYLIGHT
TZOFFSETFROM:+0000
TZOFFSETTO:+0100
TZNAME:BST
DTSTART:20230326T010000
END:DAYLIGHT
BEGIN:STANDARD
TZOFFSETFROM:+0100
TZOFFSETTO:+0000
TZNAME:GMT
DTSTART:20231029T010000
END:STANDARD
BEGIN:DAYLIGHT
TZOFFSETFROM:+0000
TZOFFSETTO:+0100
TZNAME:BST
DTSTART:20240331T010000
END:DAYLIGHT
BEGIN:STANDARD
TZOFFSETFROM:+0100
TZOFFSETTO:+0000
TZNAME:GMT
DTSTART:20241027T010000
END:STANDARD
END:VTIMEZONE
BEGIN:VEVENT
DTSTART;TZID=Europe/London:20231020T183000
DTEND;TZID=Europe/London:20231020T183000
DTSTAMP:20260424T002634
CREATED:20230511T121739Z
LAST-MODIFIED:20231017T130144Z
UID:10245-1697826600-1697826600@netherbyhall.co.uk
SUMMARY:Concert Series - Raphael Wallfisch\, cello & Simon Callaghan\, piano
DESCRIPTION:Raphael Wallfisch\, cello & Simon Callaghan\, piano\nRaphael Wallfisch is one of the world’s most celebrated cellists performing on the international stage\, renowned for his curiosity and commitment to exploring and broadening the full range of repertoire for the instrument\, and drawing on a rich musical heritage. He was born in London into a family of distinguished musicians\, his mother the cellist Anita Lasker-Wallfisch and his father the pianist Peter Wallfisch\, and was inspired at an early age by hearing Zara Nelsova play\, going on to study in California with Gregor Piatigorsky\, who chose him to perform with Jascha Heifetz in the informal recitals at his home. His career was launched at the age of twenty-four when he won the Gaspar Cassadó International Competition in Florence.  \nSimon Callaghan performs internationally as a soloist and chamber musician\, in parallel with a highly successful career as a recording artist. A favourite performer at the internationally-renowned Husum Festival of Piano Rarities in Germany\, Callaghan’s recent sell-out concert was praised by VAN Magazine as a “cleverly curated recital full of discoveries” and by the Frankfurter Allgemeine Zeitung as “technically brilliant”. Callaghan has developed a wide following and appears on a regular basis in the UK’s major concert halls\, and on tours to Asia\, North America and Europe. Recital partners have included Sheku Kanneh-Mason\, Nicholas Daniel\, Adrian Brendel\, Feng Ning\, Samuel West\, Prunella Scales and Timothy West. \n \n \n\n		\n\n	\n\n\n\n\n\n\nLive Concerts at Netherby Hall are hosted in conjunction with Absolute Classics\, a charity connecting individuals with the world’s finest music.\n \n \n\n		\n\n	\n\n\n\n\n\n\nProgramme:\n\nMiaskovsky Sonata No.2\n						Elgar Violin Sonata  \n						– Interval – \nBeethoven variations in F major\n						Schumann 5 pieces\n					 \n \n \n\n		\n \n\n\n\nTickets and More Info\n\nFriday 20th October\, 6:30pm \nTickets £15 for adults\, Free for under 26’s. \nPre-booked 2 Course Dinner available – Additional £35 per head. \nMenu for Pre-booked dinner will be sent by email prior to the concert. \nOn-site car parking is provided. \n \n \n\n		\n \n\n\n\nPre-booked Dinner Menu\n\nOur 2 Course Menu for pre-booked dinner for the evening is as follows: \nRump of Lambwith garlic and rosemary potato cake and a red currant jus  \n– or – \nWild Mushroom Risottowith parmesan shavings  \nFollowed by:  \nA Trio of Seasonal desserts – or –Cumbrian Cheese and biscuits
URL:https://netherbyhall.co.uk/event/concert-series-20th-october-2023/
ATTACH;FMTTYPE=image/jpeg:https://netherbyhall.co.uk/wp-content/uploads/2023/05/series-oct13.jpg
END:VEVENT
END:VCALENDAR