BEGIN:VCALENDAR
VERSION:2.0
PRODID:-//Netherby Hall - ECPv6.15.15//NONSGML v1.0//EN
CALSCALE:GREGORIAN
METHOD:PUBLISH
X-WR-CALNAME:Netherby Hall
X-ORIGINAL-URL:https://netherbyhall.co.uk
X-WR-CALDESC:Events for Netherby Hall
REFRESH-INTERVAL;VALUE=DURATION:PT1H
X-Robots-Tag:noindex
X-PUBLISHED-TTL:PT1H
BEGIN:VTIMEZONE
TZID:Europe/London
BEGIN:DAYLIGHT
TZOFFSETFROM:+0000
TZOFFSETTO:+0100
TZNAME:BST
DTSTART:20220327T010000
END:DAYLIGHT
BEGIN:STANDARD
TZOFFSETFROM:+0100
TZOFFSETTO:+0000
TZNAME:GMT
DTSTART:20221030T010000
END:STANDARD
BEGIN:DAYLIGHT
TZOFFSETFROM:+0000
TZOFFSETTO:+0100
TZNAME:BST
DTSTART:20230326T010000
END:DAYLIGHT
BEGIN:STANDARD
TZOFFSETFROM:+0100
TZOFFSETTO:+0000
TZNAME:GMT
DTSTART:20231029T010000
END:STANDARD
BEGIN:DAYLIGHT
TZOFFSETFROM:+0000
TZOFFSETTO:+0100
TZNAME:BST
DTSTART:20240331T010000
END:DAYLIGHT
BEGIN:STANDARD
TZOFFSETFROM:+0100
TZOFFSETTO:+0000
TZNAME:GMT
DTSTART:20241027T010000
END:STANDARD
BEGIN:DAYLIGHT
TZOFFSETFROM:+0000
TZOFFSETTO:+0100
TZNAME:BST
DTSTART:20250330T010000
END:DAYLIGHT
BEGIN:STANDARD
TZOFFSETFROM:+0100
TZOFFSETTO:+0000
TZNAME:GMT
DTSTART:20251026T010000
END:STANDARD
END:VTIMEZONE
BEGIN:VEVENT
DTSTART;TZID=Europe/London:20231208T183000
DTEND;TZID=Europe/London:20231208T183000
DTSTAMP:20260423T211310
CREATED:20230511T121900Z
LAST-MODIFIED:20230831T091521Z
UID:10249-1702060200-1702060200@netherbyhall.co.uk
SUMMARY:Concert Series - Ben Goldsheider\, French horn & Richard Uttley piano
DESCRIPTION:Ben Goldsheider\, French horn & Richard Uttley piano\nNominated by the Barbican as an ECHO Rising Star for the 2021/22 season\, Ben Goldscheider has given recitals at major concert halls across Europe including at the Concertgebouw\, Musikverein\, Pierre Boulez Saal\, Elbphilharmonie\, Koln Philharmonie and Wigmore Hall amongst others. Ben has performed with the BBC Symphony Orchestra conducted by Sakari Oramo and made his BBC Proms concerto debut in 2022 performing the Ethel Smyth Concerto for Horn and Violin with Elena Urioste and the City of Birmingham Symphony Orchestra conducted by Kazuki Yamada. Ben has also appeared as soloist with the Mozarteum Orchestra Salzburg\, Aurora Orchestra\, Britten Sinfonia\, English Chamber\, Royal Philharmonic\, London Mozart Players\, Lucerne Symphony\, Manchester Camerata\, Prague Philharmonia and Sinfonie Orchester Berlin. \nRichard Uttley has been recognised for his ‘musical intelligence and pristine facility’ (International Record Review)\, ‘amazing decisiveness’\, and ‘tumultuous performance’ (Ivan Hewett\, The Daily Telegraph). He studied at Clare College\, Cambridge\, graduating with a double first in Music\, and then at the Guildhall School of Music & Drama with Martin Roscoe. He won the British Contemporary Piano Competition in 2006 and the Young Classical Artists Trust auditions in 2011. He has released three solo recital discs to critical acclaim and made numerous chamber recordings. His playing has been broadcast on BBC Radio 3\, BBC World Service\, Classic FM\, BBC Two\, BBC Four\, and Sky Arts.  \n \n \n\n		\n\n	\n\n\n\n\n\n\nLive Concerts at Netherby Hall are hosted in conjunction with Absolute Classics\, a charity connecting individuals with the world’s finest music.\n \n \n\n		\n\n	\n\n\n\n\n\n\nProgramme:\n\nLuigi Cherubini Horn Sonata No. 2\n						Robert Schumann Drei\n						 Fantasiestucke Op.73\n						 Joseph Phibbs Horn Sonata  \n						– Interval – \nPaul Dukas Villanelle\n						Franz Strauss Nocturno Op.7\n						Lili Boulanger Trois Morceaux pour piano\n						Nina Rota Castel del Monte\n						Jane Vignery Horn Sonata Op.7\n					 \n \n \n\n		\n \n\n\n\nTickets and More Info\n\nFriday 8th December\, 6:30pm \nTickets £15 for adults\, Free for under 26’s. \nPre-booked 2 Course Dinner available – Additional £35 per head. \nMenu for Pre-booked dinner will be sent by email prior to the concert. \nOn-site car parking is provided. \n \n \n\n		\n \n\n\n\nPre-booked Dinner Menu\n\nOur 2 Course Menu for pre-booked dinner for the evening is as follows: \nTraditional Roasted TurkeyWith cranberry and apricot stuffing\, Pigs in blankets and cranberry sauce  \n– or – \nMushroom\, cranberry and Brie Wellington (V)With a pinot grigio cream sauce   \nFollowed by:  \nA Trio of Seasonal desserts – or –Cumbrian Cheese and biscuits
URL:https://netherbyhall.co.uk/event/concert-series-8th-december-2023/
LOCATION:Netherby Hall\, Longtown\, Carlisle\, CA65PR\, United Kingdom
ATTACH;FMTTYPE=image/jpeg:https://netherbyhall.co.uk/wp-content/uploads/2023/05/Ben_Richard.jpg
ORGANIZER;CN="Netherby Hall":MAILTO:events@netherbyhall.co.uk
END:VEVENT
BEGIN:VEVENT
DTSTART;TZID=Europe/London:20231231T193000
DTEND;TZID=Europe/London:20240101T010000
DTSTAMP:20260423T211310
CREATED:20231002T112033Z
LAST-MODIFIED:20231230T165123Z
UID:11125-1704051000-1704070800@netherbyhall.co.uk
SUMMARY:Join us for a NYE Ceilidh at Netherby Hall 2023
DESCRIPTION:Join us for an exclusive evening of live music and entertainment at the grand Netherby Hall. We welcome you to dance the night away in the great Oak Hall with 3 piece strong Ceilidh band.\n\n						SUNDAY 31st DECEMBER | 7:30pm until 1:00am\n					 \nTicket price includes a fun filled evening of Ceilidh dancing including a late evening buffet.  \nDress ready to move and shake\, sensible footwear a must.  \nTicket sales over the phone (01228 792732) up until the night\, with limited availability.  \n \n \n \n \n \n\n\n\n\n\n\nCragganmore – 3 Piece Ceilidh Band\n \n \n \n \n\n\n\n\n\n\n					\n				\n \n\n\n\nThe Cragganmore Ceilidh Band are one of the UK’s finest ceilidh bands\, providing musical entertainment for weddings\, parties\, corporate events\, functions and special occasions throughout Scotland\, the UK and the rest of the world!  \n \nWith more than 30 years of experience within the industry\, Cragganmore are a highly professional ceilidh band who offer a reliable\, personal service from start to finish.  \n \nThe band have played for ceilidhs at venues throughout Scotland and the rest of the UK\, including Gleneagles\, Stirling Castle and Hopetoun House\, as well as venues abroad within Malaysia and China!
URL:https://netherbyhall.co.uk/event/join-us-for-a-nye-ceilidh-at-netherby-hall-2023/
LOCATION:Netherby Hall\, Longtown\, Carlisle\, CA65PR\, United Kingdom
ATTACH;FMTTYPE=image/jpeg:https://netherbyhall.co.uk/wp-content/uploads/2023/10/a2.jpg
ORGANIZER;CN="Netherby Hall":MAILTO:events@netherbyhall.co.uk
END:VEVENT
END:VCALENDAR