BEGIN:VCALENDAR
VERSION:2.0
PRODID:-//Netherby Hall - ECPv6.15.15//NONSGML v1.0//EN
CALSCALE:GREGORIAN
METHOD:PUBLISH
X-ORIGINAL-URL:https://netherbyhall.co.uk
X-WR-CALDESC:Events for Netherby Hall
REFRESH-INTERVAL;VALUE=DURATION:PT1H
X-Robots-Tag:noindex
X-PUBLISHED-TTL:PT1H
BEGIN:VTIMEZONE
TZID:Europe/London
BEGIN:DAYLIGHT
TZOFFSETFROM:+0000
TZOFFSETTO:+0100
TZNAME:BST
DTSTART:20230326T010000
END:DAYLIGHT
BEGIN:STANDARD
TZOFFSETFROM:+0100
TZOFFSETTO:+0000
TZNAME:GMT
DTSTART:20231029T010000
END:STANDARD
BEGIN:DAYLIGHT
TZOFFSETFROM:+0000
TZOFFSETTO:+0100
TZNAME:BST
DTSTART:20240331T010000
END:DAYLIGHT
BEGIN:STANDARD
TZOFFSETFROM:+0100
TZOFFSETTO:+0000
TZNAME:GMT
DTSTART:20241027T010000
END:STANDARD
BEGIN:DAYLIGHT
TZOFFSETFROM:+0000
TZOFFSETTO:+0100
TZNAME:BST
DTSTART:20250330T010000
END:DAYLIGHT
BEGIN:STANDARD
TZOFFSETFROM:+0100
TZOFFSETTO:+0000
TZNAME:GMT
DTSTART:20251026T010000
END:STANDARD
END:VTIMEZONE
BEGIN:VEVENT
DTSTART;TZID=Europe/London:20240216T183000
DTEND;TZID=Europe/London:20240216T183000
DTSTAMP:20260423T182134
CREATED:20230511T122010Z
LAST-MODIFIED:20240115T162944Z
UID:10253-1708108200-1708108200@netherbyhall.co.uk
SUMMARY:Concert Series - Clare Hammond\, piano
DESCRIPTION:Live Concerts at Netherby Hall are hosted in conjunction with Absolute Classics\, a charity connecting individuals with the world’s finest music.\n \n \n\n		\n\n	\n\n\n\n\n\n\nProgramme:\n\nMozart Sonata in D major K. 311 Elgar Violin Sonata  \n						– Interval – \nWatkins Four Spencer Pieces\n						Clara Schumann 3 Romances Op. 21\n						Coleridge-Taylor ‘Thata Nabandji’\, ‘Deep River’ and ‘The Bamboula’ from 24 Negro Melodies\, Op. 59 Nos. 3\, 10 and 8\n						Chaminade ‘Impromptu’ Étude de concert\, Op. 35 No. 5 and Étude romantique\, Op. 132\n					 \n \n \n\n		\n \n\n\n\nTickets and More Info\n\nFriday 16th Feburary\, 6:30pm \nTickets £15 for adults\, Free for under 26’s. \nPre-booked 2 Course Dinner available – Additional £35 per head. \nMenu for Pre-booked dinner will be sent by email prior to the concert. \nOn-site car parking is provided. \n \n \n\n		\n \n\n\n\nPre-booked Dinner Menu\n\nOur 2 Course Menu for pre-booked dinner for the evening is as follows: \nOven Baked Fillet sea bass with asparagus and white wine cream sauce  \nButternut squash Risotto with basil and parmesan (v)  \nFollowed by a Trio of Seasonal Desserts or Cheese and biscuits.
URL:https://netherbyhall.co.uk/event/concert-series-16th-february-2024/
LOCATION:Netherby Hall\, Longtown\, Carlisle\, CA65PR\, United Kingdom
ATTACH;FMTTYPE=image/jpeg:https://netherbyhall.co.uk/wp-content/uploads/2023/05/clare-hammond.jpg
ORGANIZER;CN="Netherby Hall":MAILTO:events@netherbyhall.co.uk
END:VEVENT
END:VCALENDAR