BEGIN:VCALENDAR
VERSION:2.0
PRODID:-//Netherby Hall - ECPv6.15.15//NONSGML v1.0//EN
CALSCALE:GREGORIAN
METHOD:PUBLISH
X-WR-CALNAME:Netherby Hall
X-ORIGINAL-URL:https://netherbyhall.co.uk
X-WR-CALDESC:Events for Netherby Hall
REFRESH-INTERVAL;VALUE=DURATION:PT1H
X-Robots-Tag:noindex
X-PUBLISHED-TTL:PT1H
BEGIN:VTIMEZONE
TZID:Europe/London
BEGIN:DAYLIGHT
TZOFFSETFROM:+0000
TZOFFSETTO:+0100
TZNAME:BST
DTSTART:20230326T010000
END:DAYLIGHT
BEGIN:STANDARD
TZOFFSETFROM:+0100
TZOFFSETTO:+0000
TZNAME:GMT
DTSTART:20231029T010000
END:STANDARD
BEGIN:DAYLIGHT
TZOFFSETFROM:+0000
TZOFFSETTO:+0100
TZNAME:BST
DTSTART:20240331T010000
END:DAYLIGHT
BEGIN:STANDARD
TZOFFSETFROM:+0100
TZOFFSETTO:+0000
TZNAME:GMT
DTSTART:20241027T010000
END:STANDARD
BEGIN:DAYLIGHT
TZOFFSETFROM:+0000
TZOFFSETTO:+0100
TZNAME:BST
DTSTART:20250330T010000
END:DAYLIGHT
BEGIN:STANDARD
TZOFFSETFROM:+0100
TZOFFSETTO:+0000
TZNAME:GMT
DTSTART:20251026T010000
END:STANDARD
END:VTIMEZONE
BEGIN:VEVENT
DTSTART;VALUE=DATE:20240518
DTEND;VALUE=DATE:20240520
DTSTAMP:20260423T132651
CREATED:20240109T131243Z
LAST-MODIFIED:20240109T131912Z
UID:11538-1715990400-1716163199@netherbyhall.co.uk
SUMMARY:The Netherby Hall Spring Craft Fair & Open Garden 2024
DESCRIPTION:SATURDAY\, MAY 18 & SUNDAY\, MAY 19\, 2024 \nThe Netherby Hall Spring Craft Fair in 2024 – celebrating local craft businesses\, artists\, and food vendors\, spanning the North South divide – just like our location. \nHeld over two days\, our Spring Fair is free entry and free parking. \nWe welcome you to join us to browse and shop a variety of stalls\, meet the beautiful independent businesses\, local movers and shakers\, and all-round lovely people that shape this event\, enjoy good food and explore the Walled Gardens and grounds. \nThe Garden will be open with plant sales this year too! \nFree entry and parking
URL:https://netherbyhall.co.uk/event/the-netherby-hall-spring-craft-fair-open-garden-2024/
LOCATION:Netherby Hall\, Longtown\, Carlisle\, CA65PR\, United Kingdom
ATTACH;FMTTYPE=image/webp:https://netherbyhall.co.uk/wp-content/uploads/2024/01/Spring-Fair-FB-event-banner.webp
ORGANIZER;CN="Netherby Hall":MAILTO:events@netherbyhall.co.uk
END:VEVENT
END:VCALENDAR