BEGIN:VCALENDAR
VERSION:2.0
PRODID:-//Netherby Hall - ECPv6.15.15//NONSGML v1.0//EN
CALSCALE:GREGORIAN
METHOD:PUBLISH
X-WR-CALNAME:Netherby Hall
X-ORIGINAL-URL:https://netherbyhall.co.uk
X-WR-CALDESC:Events for Netherby Hall
REFRESH-INTERVAL;VALUE=DURATION:PT1H
X-Robots-Tag:noindex
X-PUBLISHED-TTL:PT1H
BEGIN:VTIMEZONE
TZID:Europe/London
BEGIN:DAYLIGHT
TZOFFSETFROM:+0000
TZOFFSETTO:+0100
TZNAME:BST
DTSTART:20230326T010000
END:DAYLIGHT
BEGIN:STANDARD
TZOFFSETFROM:+0100
TZOFFSETTO:+0000
TZNAME:GMT
DTSTART:20231029T010000
END:STANDARD
BEGIN:DAYLIGHT
TZOFFSETFROM:+0000
TZOFFSETTO:+0100
TZNAME:BST
DTSTART:20240331T010000
END:DAYLIGHT
BEGIN:STANDARD
TZOFFSETFROM:+0100
TZOFFSETTO:+0000
TZNAME:GMT
DTSTART:20241027T010000
END:STANDARD
BEGIN:DAYLIGHT
TZOFFSETFROM:+0000
TZOFFSETTO:+0100
TZNAME:BST
DTSTART:20250330T010000
END:DAYLIGHT
BEGIN:STANDARD
TZOFFSETFROM:+0100
TZOFFSETTO:+0000
TZNAME:GMT
DTSTART:20251026T010000
END:STANDARD
END:VTIMEZONE
BEGIN:VEVENT
DTSTART;VALUE=DATE:20240803
DTEND;VALUE=DATE:20240805
DTSTAMP:20260423T090255
CREATED:20240109T132209Z
LAST-MODIFIED:20240802T100329Z
UID:11542-1722643200-1722815999@netherbyhall.co.uk
SUMMARY:Netherby Hall Annual Car Show 2024
DESCRIPTION:Vehicle Registration is now closed. \nOnline Ticket Sales have now closed.\n\nTickets will still be available on the Gate on Saturday & Sunday\nTicket prices at the gates: \nSingle Adult\, 1 Day: £12.00\nSingle Adult\, Weekend: £20.00\nGroup (up to 6)\, 1 Day: £45.00\nGroup (up to 6)\, Weekend: £70.00 \nSet in the beautiful Cumbrian countryside\, Netherby Hall hosts a fantastic car show which displays some of the best and unique classic cars and performance vehicles that the UK has to offer. \nSaturday will be dedicated to showing Performance and Super Cars\, with Sunday being reserved for Classic and Vintage vehicles with a registration before 2000. \nThe Annual Netherby Hall Classic Car show will be held on Saturday 3rd and Sunday 4th of August 2024. To see the latest updates for this event please visit our website or our social media accounts\, which can be found here: Facebook. Instagram. \nWe are located in the heart of the Cumbrian countryside and surrounded by fields\, forests and beautiful wildlife. \nNetherby\, Longtown\, Carlisle\, Cumbria. CA6 5PR- is our address for those needing it. \nPlease see below for more details. Kids under the age of 16 get FREE entry. Parking is included in your ticket price. You can buy tickets on the gate over the weekend. \n\n\n\n\n\n	\n		\n			\n				\n					Netherby Hall’s Annual Car Show is the highlight of the Events Calendar \n				\n			\n			\n				\n\n					See and learn about rare vintage and classic cars\, performance and supercars; and enjoy a range of food\, drink and local craft stalls\n\n\n				\n			\n			\n				\n\n					We are very privileged to host and witness some extremely rare performance and classic cars that all have their own unique designs and history. Each car has interesting information about its origin\, details and more to educate the visitors. \n\n\n				\n			\n			\n		\n		\n			\n				\n			\n			\n				\n					If you’re in need of something to look forward to\, then the Classic and Performance Car Show at Netherby Hall is a great opportunity to experience a safe\, fun day out this summer. \n					The Netherby Hall classic car show is an event designed for the whole family to enjoy. Not only are there a range of exciting cars for you to explore\, but there will also be plenty of stalls to visit and buy from. \n				\n			\n		\n		\n			\n				\n					The location for the event\, Netherby Hall\, is located in the beautiful countryside of Cumbria. Surrounded by nature and wildlife\, there is plenty to enjoy when visiting Netherby Hall.  \n				\n			\n			\n				\n			\n			\n				\n					Your drive to the event will be packed with long and quiet roads\, boasting personality as you cruise through the countryside.
URL:https://netherbyhall.co.uk/event/netherby-hall-2024-car-show-in-cumbria/
LOCATION:Netherby Hall\, Longtown\, Carlisle\, CA65PR\, United Kingdom
CATEGORIES:Car Show Weekend
ATTACH;FMTTYPE=image/webp:https://netherbyhall.co.uk/wp-content/uploads/2022/04/Netherby-Hall-Car-Show-2022-August-Summer-Classic-Exotic.webp
ORGANIZER;CN="Netherby Hall":MAILTO:events@netherbyhall.co.uk
END:VEVENT
BEGIN:VEVENT
DTSTART;TZID=Europe/London:20240826T100000
DTEND;TZID=Europe/London:20240826T150000
DTSTAMP:20260423T090255
CREATED:20240109T132619Z
LAST-MODIFIED:20240109T132619Z
UID:11547-1724666400-1724684400@netherbyhall.co.uk
SUMMARY:Garden Open Day 2024 - Visit the Walled Garden
DESCRIPTION:We welcome you to visit on Monday 26th August as we open the doors again this year for the National Garden Scheme Open Day. \n					Following from the success of the last National Garden Scheme Open Day in May 2023. \n				\n			\n			\n				\n					Come and join us in the grounds and meet our green fingered gardening team.  \n					Refreshments will be available on the day.  \n					You are invited to explore the grounds\, which aren't open to public unless there is an event on\, and witness the ongoing works in and around the grounds at Netherby Hall. \n				\n			\n			\n				\n					Further Information\n					\n					Entry to the grounds is between 10am and 3pm\, on Monday 26th August 2024. \n					General Admission is £6 per person\n						\n					 \n					Tickets are available to book online\, click here or scroll down directly below:
URL:https://netherbyhall.co.uk/event/garden-open-day-2024-visit-the-walled-garden/
LOCATION:Netherby Hall\, Longtown\, Carlisle\, CA65PR\, United Kingdom
ATTACH;FMTTYPE=image/webp:https://netherbyhall.co.uk/wp-content/uploads/2022/03/Walled-Garden-at-Netherby-Hall-2019-4x3-1.webp
ORGANIZER;CN="Netherby Hall":MAILTO:events@netherbyhall.co.uk
END:VEVENT
END:VCALENDAR