BEGIN:VCALENDAR
VERSION:2.0
PRODID:-//Netherby Hall - ECPv6.15.15//NONSGML v1.0//EN
CALSCALE:GREGORIAN
METHOD:PUBLISH
X-ORIGINAL-URL:https://netherbyhall.co.uk
X-WR-CALDESC:Events for Netherby Hall
REFRESH-INTERVAL;VALUE=DURATION:PT1H
X-Robots-Tag:noindex
X-PUBLISHED-TTL:PT1H
BEGIN:VTIMEZONE
TZID:Europe/London
BEGIN:DAYLIGHT
TZOFFSETFROM:+0000
TZOFFSETTO:+0100
TZNAME:BST
DTSTART:20230326T010000
END:DAYLIGHT
BEGIN:STANDARD
TZOFFSETFROM:+0100
TZOFFSETTO:+0000
TZNAME:GMT
DTSTART:20231029T010000
END:STANDARD
BEGIN:DAYLIGHT
TZOFFSETFROM:+0000
TZOFFSETTO:+0100
TZNAME:BST
DTSTART:20240331T010000
END:DAYLIGHT
BEGIN:STANDARD
TZOFFSETFROM:+0100
TZOFFSETTO:+0000
TZNAME:GMT
DTSTART:20241027T010000
END:STANDARD
BEGIN:DAYLIGHT
TZOFFSETFROM:+0000
TZOFFSETTO:+0100
TZNAME:BST
DTSTART:20250330T010000
END:DAYLIGHT
BEGIN:STANDARD
TZOFFSETFROM:+0100
TZOFFSETTO:+0000
TZNAME:GMT
DTSTART:20251026T010000
END:STANDARD
END:VTIMEZONE
BEGIN:VEVENT
DTSTART;TZID=Europe/London:20241005T183000
DTEND;TZID=Europe/London:20241005T183000
DTSTAMP:20260423T055709
CREATED:20240820T124617Z
LAST-MODIFIED:20241003T125134Z
UID:12694-1728153000-1728153000@netherbyhall.co.uk
SUMMARY:Evening with Dr John Little\, author of A Very Satisfactory Manner
DESCRIPTION:Spend an evening indulging in the 1885 Netherby Hall robbery story with Dr John Little\, author of A Very Satisfactory Manner. \nLet Dr John Little take you on the journey of mayhem and murder. With a chance to see the room where the jewels were taken. \n  \nDr John Littles words…  \nIn 1885\, three London villains stole the jewellery belonging to Lady Graham of Netherby Hall\, and made off toward Carlisle with their ill-gotten gains. \nIn their bid to escape\, they left a trail of mayhem and murder which led\, ultimately\, to an appointment with the hangman. \n  \nDr John Little will speak about their crimes in the very place where the burglary took place\, with an opportunity to see the room they entered and escaped from. \nThere will be an opportunity to buy his novel based on this episode in Cumbrian history\, a series of the most shocking villainies that have ever taken place in the county
URL:https://netherbyhall.co.uk/event/evening-dr-john-little-a-very-satisfactory-manner/
LOCATION:Netherby Hall\, Longtown\, Carlisle\, CA65PR\, United Kingdom
ATTACH;FMTTYPE=image/webp:https://netherbyhall.co.uk/wp-content/uploads/2022/03/Netherby-Hall-Gunroom-Entrance.webp
ORGANIZER;CN="Netherby Hall":MAILTO:events@netherbyhall.co.uk
END:VEVENT
BEGIN:VEVENT
DTSTART;TZID=Europe/London:20241011T183000
DTEND;TZID=Europe/London:20241011T183000
DTSTAMP:20260423T055709
CREATED:20240614T105442Z
LAST-MODIFIED:20240828T124204Z
UID:12264-1728671400-1728671400@netherbyhall.co.uk
SUMMARY:Concert Series - Iyad Sughayer\, Piano
DESCRIPTION:Iyad Sughayer\, piano \nChosen as ‘One to Watch’ by International Piano Magazine\, Iyad’s debut album Khachaturian Piano Works for BIS Records was described by Gramophone as “exhilarating and delivered with perfect clarity” and “an outstanding debut” by BBC Music Magazine. Iyad’s second recording for BIS with the BBC National Orchestra of Wales conducted by Andrew Litton was released to critical acclaim in autumn 2022.  \nNominated as a 2022 Rising Star Artist by Classic FM\, Iyad was a prize-winner at the Young Classical Artists Trust (YCAT) International Auditions in 2021. \n \n \n\n		\n\n	\n\n\n\n\n\n\nLive Concerts at Netherby Hall are hosted in conjunction with Absolute Classics\, a charity connecting individuals with the world’s finest music.\n \n \n\n		\n\n	\n\n\n\n\n\n\nProgramme:\n\n Mozart Adagio in B minor\n						Schubert Drei Klavierstücke \n						– Interval – \nKhachaturian Poem\n						Khachaturian Piano Sonata\n					 \n \n \n\n		\n \n\n\n\nTickets and More Info\n\nFriday 11th October\, 6:30pm \nTickets £15 for adults\, Free for under 26’s. \nPre-booked 2 Course Dinner available – Additional £35 per head. \nMenu for Pre-booked dinner will be sent by email prior to the concert. \nOn-site car parking is provided. \n \n \n\n		\n \n\n\n\nPre-booked Dinner Menu\n\nOur 2 Course Menu for pre-booked dinner for the evening is as follows: \n					 \nThe dinner menu is not currently available. This will become available closer to the event start date.
URL:https://netherbyhall.co.uk/event/concert-series-iyad-sughayer-piano/
LOCATION:Netherby Hall\, Longtown\, Carlisle\, CA65PR\, United Kingdom
CATEGORIES:Netherby Hall Music Events
ATTACH;FMTTYPE=image/jpeg:https://netherbyhall.co.uk/wp-content/uploads/2024/06/Iyad-Sughayer-20-©-Kaupo-Kikkas-scaled-e1719925168376.jpg
ORGANIZER;CN="Netherby Hall":MAILTO:events@netherbyhall.co.uk
END:VEVENT
END:VCALENDAR